Package: ceRNAnetsim Version: 1.18.0 Command: rm -rf ceRNAnetsim.buildbin-libdir && mkdir ceRNAnetsim.buildbin-libdir && /Users/biocbuild/BBS/utils/build-universal.sh ceRNAnetsim_1.18.0.tar.gz /Library/Frameworks/R.framework/Resources/bin/R ceRNAnetsim.buildbin-libdir StartedAt: 2025-04-02 13:39:31 -0400 (Wed, 02 Apr 2025) EndedAt: 2025-04-02 13:39:40 -0400 (Wed, 02 Apr 2025) EllapsedTime: 9.1 seconds RetCode: 0 Status: OK PackageFile: ceRNAnetsim_1.18.0.tgz PackageFileSize: 2.588 MiB