Package: ccrepe Version: 1.42.0 Command: /home/biocbuild/R/R/bin/R CMD INSTALL ccrepe StartedAt: 2025-03-31 20:11:23 -0000 (Mon, 31 Mar 2025) EndedAt: 2025-03-31 20:11:47 -0000 (Mon, 31 Mar 2025) EllapsedTime: 23.3 seconds RetCode: 0 Status: OK