Package: ccrepe Version: 1.42.0 Command: chmod a+r ccrepe -R && F:\biocbuild\bbs-3.20-bioc\R\bin\R.exe CMD build --keep-empty-dirs --no-resave-data ccrepe StartedAt: 2025-03-31 17:50:11 -0400 (Mon, 31 Mar 2025) EndedAt: 2025-03-31 17:50:46 -0400 (Mon, 31 Mar 2025) EllapsedTime: 35.5 seconds RetCode: 0 Status: OK PackageFile: ccrepe_1.42.0.tar.gz PackageFileSize: 304.3 KiB