Package: ccmap Version: 1.32.0 Command: /Library/Frameworks/R.framework/Resources/bin/R CMD build --keep-empty-dirs --no-resave-data ccmap StartedAt: 2025-03-31 17:29:46 -0400 (Mon, 31 Mar 2025) EndedAt: 2025-03-31 17:32:54 -0400 (Mon, 31 Mar 2025) EllapsedTime: 187.4 seconds RetCode: 0 Status: OK PackageFile: ccmap_1.32.0.tar.gz PackageFileSize: 444.2 KiB