Package: ccfindR Version: 1.26.0 Command: /Library/Frameworks/R.framework/Resources/bin/R CMD INSTALL ccfindR StartedAt: 2025-03-31 15:41:46 -0400 (Mon, 31 Mar 2025) EndedAt: 2025-03-31 15:41:47 -0400 (Mon, 31 Mar 2025) EllapsedTime: 1.1 seconds RetCode: 1 Status: ERROR