Package: ccImpute Version: 1.8.0 Command: /home/biocbuild/R/R/bin/R CMD INSTALL ccImpute StartedAt: 2025-03-31 20:32:10 -0000 (Mon, 31 Mar 2025) EndedAt: 2025-03-31 20:33:08 -0000 (Mon, 31 Mar 2025) EllapsedTime: 57.8 seconds RetCode: 0 Status: OK