Package: ccImpute Version: 1.8.0 Command: /Library/Frameworks/R.framework/Resources/bin/R CMD build --keep-empty-dirs --no-resave-data ccImpute StartedAt: 2025-03-31 17:29:46 -0400 (Mon, 31 Mar 2025) EndedAt: 2025-03-31 17:38:03 -0400 (Mon, 31 Mar 2025) EllapsedTime: 496.9 seconds RetCode: 0 Status: OK PackageFile: ccImpute_1.8.0.tar.gz PackageFileSize: 986 KiB