Package: cbpManager Version: 1.14.0 Command: chmod a+r cbpManager -R && F:\biocbuild\bbs-3.20-bioc\R\bin\R.exe CMD build --keep-empty-dirs --no-resave-data cbpManager StartedAt: 2025-03-31 17:48:56 -0400 (Mon, 31 Mar 2025) EndedAt: 2025-03-31 17:49:42 -0400 (Mon, 31 Mar 2025) EllapsedTime: 46.5 seconds RetCode: 0 Status: OK PackageFile: cbpManager_1.14.0.tar.gz PackageFileSize: 4.639 MiB