Package: cbpManager Version: 1.14.0 Command: /Library/Frameworks/R.framework/Resources/bin/R CMD INSTALL cbpManager StartedAt: 2025-03-31 15:57:48 -0400 (Mon, 31 Mar 2025) EndedAt: 2025-03-31 15:58:10 -0400 (Mon, 31 Mar 2025) EllapsedTime: 21.8 seconds RetCode: 0 Status: OK