Package: cbaf Version: 1.28.0 Command: /home/biocbuild/R/R/bin/R CMD INSTALL cbaf StartedAt: 2025-03-31 21:07:15 -0000 (Mon, 31 Mar 2025) EndedAt: 2025-03-31 21:08:11 -0000 (Mon, 31 Mar 2025) EllapsedTime: 55.9 seconds RetCode: 0 Status: OK