Package: cbaf Version: 1.28.0 Command: /home/biocbuild/R/R/bin/R CMD build --keep-empty-dirs --no-resave-data cbaf StartedAt: 2025-03-31 22:07:50 -0000 (Mon, 31 Mar 2025) EndedAt: 2025-03-31 22:09:18 -0000 (Mon, 31 Mar 2025) EllapsedTime: 88.0 seconds RetCode: 0 Status: OK PackageFile: cbaf_1.28.0.tar.gz PackageFileSize: 810.4 KiB