Package: cbaf Version: 1.28.0 Command: /Library/Frameworks/R.framework/Resources/bin/R CMD INSTALL cbaf StartedAt: 2025-03-31 18:01:34 -0400 (Mon, 31 Mar 2025) EndedAt: 2025-03-31 18:02:23 -0400 (Mon, 31 Mar 2025) EllapsedTime: 49.5 seconds RetCode: 0 Status: OK