Package: cardelino Version: 1.8.0 Command: rm -rf cardelino.buildbin-libdir && mkdir cardelino.buildbin-libdir && /Users/biocbuild/BBS/utils/build-universal.sh cardelino_1.8.0.tar.gz /Library/Frameworks/R.framework/Resources/bin/R cardelino.buildbin-libdir StartedAt: 2025-04-02 13:35:59 -0400 (Wed, 02 Apr 2025) EndedAt: 2025-04-02 13:36:55 -0400 (Wed, 02 Apr 2025) EllapsedTime: 55.7 seconds RetCode: 0 Status: OK PackageFile: cardelino_1.8.0.tgz PackageFileSize: 3.839 MiB