Package: cancerclass Version: 1.50.0 Command: rm -rf cancerclass.buildbin-libdir && mkdir cancerclass.buildbin-libdir && F:\biocbuild\bbs-3.20-bioc\R\bin\R.exe CMD INSTALL --build --library=cancerclass.buildbin-libdir cancerclass_1.50.0.tar.gz StartedAt: 2025-04-01 07:49:20 -0400 (Tue, 01 Apr 2025) EndedAt: 2025-04-01 07:49:57 -0400 (Tue, 01 Apr 2025) EllapsedTime: 37.5 seconds RetCode: 0 Status: OK PackageFile: cancerclass_1.50.0.zip PackageFileSize: 1.522 MiB