Package: cancerclass Version: 1.50.0 Command: rm -rf cancerclass.buildbin-libdir && mkdir cancerclass.buildbin-libdir && /Users/biocbuild/BBS/utils/build-universal.sh cancerclass_1.50.0.tar.gz /Library/Frameworks/R.framework/Resources/bin/R cancerclass.buildbin-libdir StartedAt: 2025-04-01 11:32:24 -0400 (Tue, 01 Apr 2025) EndedAt: 2025-04-01 11:32:39 -0400 (Tue, 01 Apr 2025) EllapsedTime: 15.3 seconds RetCode: 0 Status: OK PackageFile: cancerclass_1.50.0.tgz PackageFileSize: 1.628 MiB