Package: canceR Version: 1.40.0 Command: /Library/Frameworks/R.framework/Resources/bin/R CMD INSTALL canceR StartedAt: 2025-03-31 17:56:23 -0400 (Mon, 31 Mar 2025) EndedAt: 2025-03-31 17:57:52 -0400 (Mon, 31 Mar 2025) EllapsedTime: 89.2 seconds RetCode: 0 Status: OK