Package: canceR Version: 1.40.0 Command: rm -rf canceR.buildbin-libdir && mkdir canceR.buildbin-libdir && /Users/biocbuild/BBS/utils/build-universal.sh canceR_1.40.0.tar.gz /Library/Frameworks/R.framework/Resources/bin/R canceR.buildbin-libdir StartedAt: 2025-04-02 13:35:42 -0400 (Wed, 02 Apr 2025) EndedAt: 2025-04-02 13:37:54 -0400 (Wed, 02 Apr 2025) EllapsedTime: 132.2 seconds RetCode: 0 Status: OK PackageFile: canceR_1.40.0.tgz PackageFileSize: 14.91 MiB