Package: calm Version: 1.20.0 Command: /home/biocbuild/R/R/bin/R CMD INSTALL calm StartedAt: 2025-03-31 20:17:21 -0000 (Mon, 31 Mar 2025) EndedAt: 2025-03-31 20:17:45 -0000 (Mon, 31 Mar 2025) EllapsedTime: 23.1 seconds RetCode: 0 Status: OK