Package: calm Version: 1.20.0 Command: F:\biocbuild\bbs-3.20-bioc\R\bin\R.exe CMD check --no-multiarch --install=check:calm.install-out.txt --library=F:\biocbuild\bbs-3.20-bioc\R\library --no-vignettes --timings calm_1.20.0.tar.gz StartedAt: 2025-03-31 23:40:56 -0400 (Mon, 31 Mar 2025) EndedAt: 2025-03-31 23:42:32 -0400 (Mon, 31 Mar 2025) EllapsedTime: 96.1 seconds RetCode: 0 Status: OK CheckDir: calm.Rcheck Warnings: 0