Package: calm Version: 1.20.0 Command: /Library/Frameworks/R.framework/Resources/bin/R CMD build --keep-empty-dirs --no-resave-data calm StartedAt: 2025-03-31 17:25:21 -0400 (Mon, 31 Mar 2025) EndedAt: 2025-03-31 17:29:06 -0400 (Mon, 31 Mar 2025) EllapsedTime: 225.3 seconds RetCode: 0 Status: OK PackageFile: calm_1.20.0.tar.gz PackageFileSize: 397.3 KiB