Package: calm Version: 1.20.0 Command: rm -rf calm.buildbin-libdir && mkdir calm.buildbin-libdir && /Users/biocbuild/BBS/utils/build-universal.sh calm_1.20.0.tar.gz /Library/Frameworks/R.framework/Resources/bin/R calm.buildbin-libdir StartedAt: 2025-04-02 13:35:12 -0400 (Wed, 02 Apr 2025) EndedAt: 2025-04-02 13:35:19 -0400 (Wed, 02 Apr 2025) EllapsedTime: 6.8 seconds RetCode: 0 Status: OK PackageFile: calm_1.20.0.tgz PackageFileSize: 428.2 KiB