Package: cTRAP Version: 1.24.0 Command: chmod a+r cTRAP -R && F:\biocbuild\bbs-3.20-bioc\R\bin\R.exe CMD build --keep-empty-dirs --no-resave-data cTRAP StartedAt: 2025-03-31 18:15:50 -0400 (Mon, 31 Mar 2025) EndedAt: 2025-03-31 18:25:09 -0400 (Mon, 31 Mar 2025) EllapsedTime: 558.8 seconds RetCode: 0 Status: OK PackageFile: cTRAP_1.24.0.tar.gz PackageFileSize: 3.946 MiB