Package: cBioPortalData Version: 2.18.2 Command: /home/biocbuild/bbs-3.20-bioc/R/bin/R CMD check --install=check:cBioPortalData.install-out.txt --library=/home/biocbuild/bbs-3.20-bioc/R/site-library --timings cBioPortalData_2.18.2.tar.gz StartedAt: 2025-03-31 20:31:29 -0400 (Mon, 31 Mar 2025) EndedAt: 2025-03-31 20:39:14 -0400 (Mon, 31 Mar 2025) EllapsedTime: 465.4 seconds RetCode: 0 Status: OK CheckDir: cBioPortalData.Rcheck Warnings: 0