Package: bumphunter Version: 1.48.0 Command: /home/biocbuild/R/R/bin/R CMD INSTALL bumphunter StartedAt: 2025-03-31 20:37:05 -0000 (Mon, 31 Mar 2025) EndedAt: 2025-03-31 20:37:50 -0000 (Mon, 31 Mar 2025) EllapsedTime: 45.6 seconds RetCode: 0 Status: OK