Package: bugsigdbr Version: 1.12.3 Command: /home/biocbuild/R/R/bin/R CMD build --keep-empty-dirs --no-resave-data bugsigdbr StartedAt: 2025-03-31 22:01:37 -0000 (Mon, 31 Mar 2025) EndedAt: 2025-03-31 22:07:05 -0000 (Mon, 31 Mar 2025) EllapsedTime: 328.1 seconds RetCode: 0 Status: OK PackageFile: bugsigdbr_1.12.3.tar.gz PackageFileSize: 395.4 KiB