Package: bugsigdbr Version: 1.12.3 Command: /Library/Frameworks/R.framework/Resources/bin/R CMD build --keep-empty-dirs --no-resave-data bugsigdbr StartedAt: 2025-03-31 17:23:19 -0400 (Mon, 31 Mar 2025) EndedAt: 2025-03-31 17:26:25 -0400 (Mon, 31 Mar 2025) EllapsedTime: 185.4 seconds RetCode: 0 Status: OK PackageFile: bugsigdbr_1.12.3.tar.gz PackageFileSize: 328.9 KiB