Package: bugsigdbr Version: 1.12.3 Command: rm -rf bugsigdbr.buildbin-libdir && mkdir bugsigdbr.buildbin-libdir && /Users/biocbuild/BBS/utils/build-universal.sh bugsigdbr_1.12.3.tar.gz /Library/Frameworks/R.framework/Resources/bin/R bugsigdbr.buildbin-libdir StartedAt: 2025-04-01 11:31:33 -0400 (Tue, 01 Apr 2025) EndedAt: 2025-04-01 11:31:38 -0400 (Tue, 01 Apr 2025) EllapsedTime: 5.5 seconds RetCode: 0 Status: OK PackageFile: bugsigdbr_1.12.3.tgz PackageFileSize: 360.6 KiB