Package: bugsigdbr Version: 1.12.3 Command: /Library/Frameworks/R.framework/Resources/bin/R CMD check --install=check:bugsigdbr.install-out.txt --library=/Library/Frameworks/R.framework/Resources/library --no-vignettes --timings bugsigdbr_1.12.3.tar.gz StartedAt: 2025-04-01 12:50:53 -0400 (Tue, 01 Apr 2025) EndedAt: 2025-04-01 12:54:23 -0400 (Tue, 01 Apr 2025) EllapsedTime: 209.2 seconds RetCode: 0 Status: OK CheckDir: bugsigdbr.Rcheck Warnings: 0