Package: bsseq Version: 1.42.0 Command: /Library/Frameworks/R.framework/Resources/bin/R CMD INSTALL bsseq StartedAt: 2025-03-31 15:35:22 -0400 (Mon, 31 Mar 2025) EndedAt: 2025-03-31 15:37:39 -0400 (Mon, 31 Mar 2025) EllapsedTime: 136.8 seconds RetCode: 0 Status: OK