Package: bsseq Version: 1.42.0 Command: /Library/Frameworks/R.framework/Resources/bin/R CMD build --keep-empty-dirs --no-resave-data bsseq StartedAt: 2025-03-31 17:23:01 -0400 (Mon, 31 Mar 2025) EndedAt: 2025-03-31 17:27:48 -0400 (Mon, 31 Mar 2025) EllapsedTime: 287.2 seconds RetCode: 0 Status: OK PackageFile: bsseq_1.42.0.tar.gz PackageFileSize: 2.888 MiB