Package: broadSeq Version: 1.0.0 Command: F:\biocbuild\bbs-3.20-bioc\R\bin\R.exe CMD INSTALL broadSeq StartedAt: 2025-03-31 17:00:56 -0400 (Mon, 31 Mar 2025) EndedAt: 2025-03-31 17:01:39 -0400 (Mon, 31 Mar 2025) EllapsedTime: 43.6 seconds RetCode: 0 Status: OK