Package: broadSeq Version: 1.0.0 Command: chmod a+r broadSeq -R && F:\biocbuild\bbs-3.20-bioc\R\bin\R.exe CMD build --keep-empty-dirs --no-resave-data broadSeq StartedAt: 2025-03-31 17:43:48 -0400 (Mon, 31 Mar 2025) EndedAt: 2025-03-31 17:46:56 -0400 (Mon, 31 Mar 2025) EllapsedTime: 188.4 seconds RetCode: 0 Status: OK PackageFile: broadSeq_1.0.0.tar.gz PackageFileSize: 2.943 MiB