Package: brendaDb Version: 1.20.0 Command: /home/biocbuild/R/R/bin/R CMD INSTALL brendaDb StartedAt: 2025-03-31 20:26:34 -0000 (Mon, 31 Mar 2025) EndedAt: 2025-03-31 20:26:51 -0000 (Mon, 31 Mar 2025) EllapsedTime: 16.3 seconds RetCode: 0 Status: OK