Package: brendaDb Version: 1.20.0 Command: F:\biocbuild\bbs-3.20-bioc\R\bin\R.exe CMD INSTALL brendaDb StartedAt: 2025-03-31 15:37:34 -0400 (Mon, 31 Mar 2025) EndedAt: 2025-03-31 15:38:03 -0400 (Mon, 31 Mar 2025) EllapsedTime: 29.0 seconds RetCode: 0 Status: OK