Package: breakpointR Version: 1.24.0 Command: /Library/Frameworks/R.framework/Resources/bin/R CMD check --install=check:breakpointR.install-out.txt --library=/Library/Frameworks/R.framework/Resources/library --no-vignettes --timings breakpointR_1.24.0.tar.gz StartedAt: 2025-04-01 12:40:28 -0400 (Tue, 01 Apr 2025) EndedAt: 2025-04-01 12:45:16 -0400 (Tue, 01 Apr 2025) EllapsedTime: 287.4 seconds RetCode: 0 Status: OK CheckDir: breakpointR.Rcheck Warnings: 0