Package: branchpointer Version: 1.32.0 Command: chmod a+r branchpointer -R && F:\biocbuild\bbs-3.20-bioc\R\bin\R.exe CMD build --keep-empty-dirs --no-resave-data branchpointer StartedAt: 2025-03-31 17:43:22 -0400 (Mon, 31 Mar 2025) EndedAt: 2025-03-31 17:45:21 -0400 (Mon, 31 Mar 2025) EllapsedTime: 119.8 seconds RetCode: 0 Status: OK PackageFile: branchpointer_1.32.0.tar.gz PackageFileSize: 4.805 MiB