Package: branchpointer Version: 1.32.0 Command: rm -rf branchpointer.buildbin-libdir && mkdir branchpointer.buildbin-libdir && F:\biocbuild\bbs-3.20-bioc\R\bin\R.exe CMD INSTALL --build --library=branchpointer.buildbin-libdir branchpointer_1.32.0.tar.gz StartedAt: 2025-04-01 07:47:55 -0400 (Tue, 01 Apr 2025) EndedAt: 2025-04-01 07:49:09 -0400 (Tue, 01 Apr 2025) EllapsedTime: 74.7 seconds RetCode: 0 Status: OK PackageFile: branchpointer_1.32.0.zip PackageFileSize: 4.32 MiB