Package: borealis Version: 1.10.0 Command: /Library/Frameworks/R.framework/Resources/bin/R CMD INSTALL borealis StartedAt: 2025-03-31 16:15:00 -0400 (Mon, 31 Mar 2025) EndedAt: 2025-03-31 16:16:19 -0400 (Mon, 31 Mar 2025) EllapsedTime: 79.6 seconds RetCode: 0 Status: OK