Package: borealis Version: 1.10.0 Command: /Library/Frameworks/R.framework/Resources/bin/R CMD build --keep-empty-dirs --no-resave-data borealis StartedAt: 2025-03-31 17:20:03 -0400 (Mon, 31 Mar 2025) EndedAt: 2025-03-31 17:23:53 -0400 (Mon, 31 Mar 2025) EllapsedTime: 230.0 seconds RetCode: 0 Status: OK PackageFile: borealis_1.10.0.tar.gz PackageFileSize: 426.1 KiB