Package: bnem Version: 1.14.0 Command: chmod a+r bnem -R && F:\biocbuild\bbs-3.20-bioc\R\bin\R.exe CMD build --keep-empty-dirs --no-resave-data bnem StartedAt: 2025-03-31 17:41:54 -0400 (Mon, 31 Mar 2025) EndedAt: 2025-03-31 17:43:29 -0400 (Mon, 31 Mar 2025) EllapsedTime: 94.3 seconds RetCode: 0 Status: OK PackageFile: bnem_1.14.0.tar.gz PackageFileSize: 1.025 MiB