Package: bnem Version: 1.14.0 Command: /Library/Frameworks/R.framework/Resources/bin/R CMD build --keep-empty-dirs --no-resave-data bnem StartedAt: 2025-03-31 19:44:48 -0400 (Mon, 31 Mar 2025) EndedAt: 2025-03-31 19:46:08 -0400 (Mon, 31 Mar 2025) EllapsedTime: 79.2 seconds RetCode: 0 Status: OK PackageFile: bnem_1.14.0.tar.gz PackageFileSize: 1.682 MiB