Package: bnbc Version: 1.28.0 Command: /home/biocbuild/R/R/bin/R CMD INSTALL bnbc StartedAt: 2025-03-31 20:54:23 -0000 (Mon, 31 Mar 2025) EndedAt: 2025-03-31 20:55:18 -0000 (Mon, 31 Mar 2025) EllapsedTime: 55.6 seconds RetCode: 0 Status: OK