Package: bnbc Version: 1.28.0 Command: F:\biocbuild\bbs-3.20-bioc\R\bin\R.exe CMD INSTALL bnbc StartedAt: 2025-03-31 16:36:56 -0400 (Mon, 31 Mar 2025) EndedAt: 2025-03-31 16:37:51 -0400 (Mon, 31 Mar 2025) EllapsedTime: 55.3 seconds RetCode: 0 Status: OK