Package: bnbc Version: 1.28.0 Command: rm -rf bnbc.buildbin-libdir && mkdir bnbc.buildbin-libdir && F:\biocbuild\bbs-3.20-bioc\R\bin\R.exe CMD INSTALL --build --library=bnbc.buildbin-libdir bnbc_1.28.0.tar.gz StartedAt: 2025-04-01 07:47:29 -0400 (Tue, 01 Apr 2025) EndedAt: 2025-04-01 07:48:29 -0400 (Tue, 01 Apr 2025) EllapsedTime: 60.4 seconds RetCode: 0 Status: OK PackageFile: bnbc_1.28.0.zip PackageFileSize: 4.869 MiB