Package: blima Version: 1.40.0 Command: rm -rf blima.buildbin-libdir && mkdir blima.buildbin-libdir && F:\biocbuild\bbs-3.20-bioc\R\bin\R.exe CMD INSTALL --build --library=blima.buildbin-libdir blima_1.40.0.tar.gz StartedAt: 2025-04-01 07:47:15 -0400 (Tue, 01 Apr 2025) EndedAt: 2025-04-01 07:48:05 -0400 (Tue, 01 Apr 2025) EllapsedTime: 50.1 seconds RetCode: 0 Status: OK PackageFile: blima_1.40.0.zip PackageFileSize: 735.6 KiB