Package: blima Version: 1.40.0 Command: /Library/Frameworks/R.framework/Resources/bin/R CMD check --install=check:blima.install-out.txt --library=/Library/Frameworks/R.framework/Resources/library --no-vignettes --timings blima_1.40.0.tar.gz StartedAt: 2025-04-01 00:03:45 -0400 (Tue, 01 Apr 2025) EndedAt: 2025-04-01 00:07:45 -0400 (Tue, 01 Apr 2025) EllapsedTime: 239.9 seconds RetCode: 0 Status: OK CheckDir: blima.Rcheck Warnings: 0