Package: blacksheepr Version: 1.20.0 Command: /home/biocbuild/bbs-3.20-bioc/R/bin/R CMD check --install=check:blacksheepr.install-out.txt --library=/home/biocbuild/bbs-3.20-bioc/R/site-library --timings blacksheepr_1.20.0.tar.gz StartedAt: 2025-03-31 20:18:51 -0400 (Mon, 31 Mar 2025) EndedAt: 2025-03-31 20:24:20 -0400 (Mon, 31 Mar 2025) EllapsedTime: 329.0 seconds RetCode: 0 Status: OK CheckDir: blacksheepr.Rcheck Warnings: 0