Package: biovizBase Version: 1.54.0 Command: /home/biocbuild/R/R/bin/R CMD build --keep-empty-dirs --no-resave-data biovizBase StartedAt: 2025-03-31 21:52:39 -0000 (Mon, 31 Mar 2025) EndedAt: 2025-03-31 21:53:52 -0000 (Mon, 31 Mar 2025) EllapsedTime: 73.0 seconds RetCode: 0 Status: OK PackageFile: biovizBase_1.54.0.tar.gz PackageFileSize: 2.39 MiB