Package: biovizBase Version: 1.54.0 Command: /Library/Frameworks/R.framework/Resources/bin/R CMD INSTALL biovizBase StartedAt: 2025-03-31 15:53:43 -0400 (Mon, 31 Mar 2025) EndedAt: 2025-03-31 15:55:15 -0400 (Mon, 31 Mar 2025) EllapsedTime: 91.5 seconds RetCode: 0 Status: OK