Package: biovizBase Version: 1.54.0 Command: /Library/Frameworks/R.framework/Resources/bin/R CMD INSTALL biovizBase StartedAt: 2025-03-31 16:39:45 -0400 (Mon, 31 Mar 2025) EndedAt: 2025-03-31 16:40:37 -0400 (Mon, 31 Mar 2025) EllapsedTime: 52.1 seconds RetCode: 0 Status: OK